BEGIN:VCALENDAR
VERSION:2.0
PRODID:-//Live &#039;80s Kansas City - ECPv5.6.0//NONSGML v1.0//EN
CALSCALE:GREGORIAN
METHOD:PUBLISH
X-WR-CALNAME:Live &#039;80s Kansas City
X-ORIGINAL-URL:https://www.live80skc.com
X-WR-CALDESC:Events for Live &#039;80s Kansas City
BEGIN:VTIMEZONE
TZID:America/Chicago
BEGIN:DAYLIGHT
TZOFFSETFROM:-0600
TZOFFSETTO:-0500
TZNAME:CDT
DTSTART:20260308T080000
END:DAYLIGHT
BEGIN:STANDARD
TZOFFSETFROM:-0500
TZOFFSETTO:-0600
TZNAME:CST
DTSTART:20261101T070000
END:STANDARD
END:VTIMEZONE
BEGIN:VEVENT
DTSTART;TZID=America/Chicago:20260326T193000
DTEND;TZID=America/Chicago:20260326T220000
DTSTAMP:20260423T024340
CREATED:20251118T035008Z
LAST-MODIFIED:20251118T035753Z
UID:17636-1774553400-1774562400@www.live80skc.com
SUMMARY:Journey
DESCRIPTION:
URL:https://www.live80skc.com/kansas-city-concert/journey-t-mobile-center-2026/
LOCATION:T-Mobile Center\, 1407 Grand Boulevard\, Kansas City\, MO\, 64106\, United States
END:VEVENT
END:VCALENDAR