BEGIN:VCALENDAR
VERSION:2.0
PRODID:-//Live &#039;80s Kansas City - ECPv5.6.0//NONSGML v1.0//EN
CALSCALE:GREGORIAN
METHOD:PUBLISH
X-WR-CALNAME:Live &#039;80s Kansas City
X-ORIGINAL-URL:https://www.live80skc.com
X-WR-CALDESC:Events for Live &#039;80s Kansas City
BEGIN:VTIMEZONE
TZID:UTC
BEGIN:STANDARD
TZOFFSETFROM:+0000
TZOFFSETTO:+0000
TZNAME:UTC
DTSTART:20160101T000000
END:STANDARD
END:VTIMEZONE
BEGIN:VEVENT
DTSTART;TZID=UTC:20160528T190000
DTEND;TZID=UTC:20160528T230000
DTSTAMP:20260423T093908
CREATED:20160414T040113Z
LAST-MODIFIED:20160414T040113Z
UID:2144-1464462000-1464476400@www.live80skc.com
SUMMARY:Journey w/ The Doobie Brothers & Dave Mason
DESCRIPTION:
URL:https://www.live80skc.com/kansas-city-concert/journey-w-the-doobie-brothers-dave-mason/
LOCATION:Sprint Center\, 1407 Grand Boulevard\, Kansas City\, MO\, 64106\, United States
END:VEVENT
END:VCALENDAR