BEGIN:VCALENDAR
VERSION:2.0
PRODID:-//Live &#039;80s Kansas City - ECPv5.6.0//NONSGML v1.0//EN
CALSCALE:GREGORIAN
METHOD:PUBLISH
X-WR-CALNAME:Live &#039;80s Kansas City
X-ORIGINAL-URL:https://www.live80skc.com
X-WR-CALDESC:Events for Live &#039;80s Kansas City
BEGIN:VTIMEZONE
TZID:America/Chicago
BEGIN:DAYLIGHT
TZOFFSETFROM:-0600
TZOFFSETTO:-0500
TZNAME:CDT
DTSTART:20250309T080000
END:DAYLIGHT
BEGIN:STANDARD
TZOFFSETFROM:-0500
TZOFFSETTO:-0600
TZNAME:CST
DTSTART:20251102T070000
END:STANDARD
END:VTIMEZONE
BEGIN:VEVENT
DTSTART;TZID=America/Chicago:20250926T190000
DTEND;TZID=America/Chicago:20250926T230000
DTSTAMP:20260423T023632
CREATED:20250423T203118Z
LAST-MODIFIED:20250423T203118Z
UID:16625-1758913200-1758927600@www.live80skc.com
SUMMARY:Kansas w/ 38 Special & Jefferson Starship
DESCRIPTION:
URL:https://www.live80skc.com/kansas-city-concert/kansas-38-special-jefferson-starship-azura-amp-2025/
LOCATION:Azura Amphitheater\, 633 North 130th Street\, Bonner Springs\, KS\, 66012\, United States
END:VEVENT
END:VCALENDAR