BEGIN:VCALENDAR
VERSION:2.0
PRODID:-//Live &#039;80s Kansas City - ECPv5.6.0//NONSGML v1.0//EN
CALSCALE:GREGORIAN
METHOD:PUBLISH
X-WR-CALNAME:Live &#039;80s Kansas City
X-ORIGINAL-URL:https://www.live80skc.com
X-WR-CALDESC:Events for Live &#039;80s Kansas City
BEGIN:VTIMEZONE
TZID:America/Chicago
BEGIN:DAYLIGHT
TZOFFSETFROM:-0600
TZOFFSETTO:-0500
TZNAME:CDT
DTSTART:20160313T080000
END:DAYLIGHT
BEGIN:STANDARD
TZOFFSETFROM:-0500
TZOFFSETTO:-0600
TZNAME:CST
DTSTART:20161106T070000
END:STANDARD
END:VTIMEZONE
BEGIN:VEVENT
DTSTART;TZID=America/Chicago:20161022T193000
DTEND;TZID=America/Chicago:20161022T230000
DTSTAMP:20260423T063843
CREATED:20160905T172924Z
LAST-MODIFIED:20160925T212558Z
UID:3063-1477164600-1477177200@www.live80skc.com
SUMMARY:KANSAS
DESCRIPTION:
URL:https://www.live80skc.com/kansas-city-concert/kansas/
LOCATION:Kauffman Center for the Performing Arts\, 1601 Broadway Boulevard\, Kansas City\, MO\, 64108\, United States
END:VEVENT
END:VCALENDAR