BEGIN:VCALENDAR
VERSION:2.0
PRODID:-//Live &#039;80s Kansas City - ECPv5.6.0//NONSGML v1.0//EN
CALSCALE:GREGORIAN
METHOD:PUBLISH
X-WR-CALNAME:Live &#039;80s Kansas City
X-ORIGINAL-URL:https://www.live80skc.com
X-WR-CALDESC:Events for Live &#039;80s Kansas City
BEGIN:VTIMEZONE
TZID:America/Chicago
BEGIN:DAYLIGHT
TZOFFSETFROM:-0600
TZOFFSETTO:-0500
TZNAME:CDT
DTSTART:20210314T080000
END:DAYLIGHT
BEGIN:STANDARD
TZOFFSETFROM:-0500
TZOFFSETTO:-0600
TZNAME:CST
DTSTART:20211107T070000
END:STANDARD
END:VTIMEZONE
BEGIN:VEVENT
DTSTART;TZID=America/Chicago:20211120T190000
DTEND;TZID=America/Chicago:20211120T230000
DTSTAMP:20260423T051835
CREATED:20211008T183305Z
LAST-MODIFIED:20211008T183305Z
UID:11451-1637434800-1637449200@www.live80skc.com
SUMMARY:Keith Sweat w/ Bell Biv DeVoe\, Bobby Brown\, Dru Hill & Silk
DESCRIPTION:
URL:https://www.live80skc.com/kansas-city-concert/keith-sweat-bell-biv-devoe-bobby-brown-dru-hill-silk-t-mobile-center-2021/
LOCATION:T-Mobile Center\, 1407 Grand Boulevard\, Kansas City\, MO\, 64106\, United States
CATEGORIES:Big Arena,T-Mobile Center
END:VEVENT
END:VCALENDAR