BEGIN:VCALENDAR
VERSION:2.0
PRODID:-//Live &#039;80s Kansas City - ECPv5.6.0//NONSGML v1.0//EN
CALSCALE:GREGORIAN
METHOD:PUBLISH
X-WR-CALNAME:Live &#039;80s Kansas City
X-ORIGINAL-URL:https://www.live80skc.com
X-WR-CALDESC:Events for Live &#039;80s Kansas City
BEGIN:VTIMEZONE
TZID:America/Chicago
BEGIN:DAYLIGHT
TZOFFSETFROM:-0600
TZOFFSETTO:-0500
TZNAME:CDT
DTSTART:20170312T080000
END:DAYLIGHT
BEGIN:STANDARD
TZOFFSETFROM:-0500
TZOFFSETTO:-0600
TZNAME:CST
DTSTART:20171105T070000
END:STANDARD
END:VTIMEZONE
BEGIN:VEVENT
DTSTART;TZID=America/Chicago:20170924T073000
DTEND;TZID=America/Chicago:20170924T213000
DTSTAMP:20260423T093819
CREATED:20170704T192757Z
LAST-MODIFIED:20170704T192757Z
UID:4387-1506238200-1506288600@www.live80skc.com
SUMMARY:Kenny Rogers - "The Gambler's Last Deal" (Final World Tour)
DESCRIPTION:
URL:https://www.live80skc.com/kansas-city-concert/kenny-rogers-lied-center-kansas/
LOCATION:Lied Center of Kansas\, 1600 Stewart Drive\, Lawrence\, KS\, 66045\, United States
END:VEVENT
END:VCALENDAR