BEGIN:VCALENDAR
VERSION:2.0
PRODID:-//Live &#039;80s Kansas City - ECPv5.6.0//NONSGML v1.0//EN
CALSCALE:GREGORIAN
METHOD:PUBLISH
X-WR-CALNAME:Live &#039;80s Kansas City
X-ORIGINAL-URL:https://www.live80skc.com
X-WR-CALDESC:Events for Live &#039;80s Kansas City
BEGIN:VTIMEZONE
TZID:America/Chicago
BEGIN:DAYLIGHT
TZOFFSETFROM:-0600
TZOFFSETTO:-0500
TZNAME:CDT
DTSTART:20240310T080000
END:DAYLIGHT
BEGIN:STANDARD
TZOFFSETFROM:-0500
TZOFFSETTO:-0600
TZNAME:CST
DTSTART:20241103T070000
END:STANDARD
END:VTIMEZONE
BEGIN:VEVENT
DTSTART;TZID=America/Chicago:20240917T190000
DTEND;TZID=America/Chicago:20240917T230000
DTSTAMP:20260423T035459
CREATED:20240824T183234Z
LAST-MODIFIED:20240824T183234Z
UID:15755-1726599600-1726614000@www.live80skc.com
SUMMARY:Kirk Franklin
DESCRIPTION:With special guests Yolanda Adams\, Fred Hammond\, Marvin Sapp & The Clark Sisters
URL:https://www.live80skc.com/kansas-city-concert/kirk-franklin-t-mobile-center-2024/
LOCATION:T-Mobile Center\, 1407 Grand Boulevard\, Kansas City\, MO\, 64106\, United States
END:VEVENT
END:VCALENDAR