BEGIN:VCALENDAR
VERSION:2.0
PRODID:-//Live &#039;80s Kansas City - ECPv5.6.0//NONSGML v1.0//EN
CALSCALE:GREGORIAN
METHOD:PUBLISH
X-WR-CALNAME:Live &#039;80s Kansas City
X-ORIGINAL-URL:https://www.live80skc.com
X-WR-CALDESC:Events for Live &#039;80s Kansas City
BEGIN:VTIMEZONE
TZID:America/Chicago
BEGIN:DAYLIGHT
TZOFFSETFROM:-0600
TZOFFSETTO:-0500
TZNAME:CDT
DTSTART:20190310T080000
END:DAYLIGHT
BEGIN:STANDARD
TZOFFSETFROM:-0500
TZOFFSETTO:-0600
TZNAME:CST
DTSTART:20191103T070000
END:STANDARD
END:VTIMEZONE
BEGIN:VEVENT
DTSTART;TZID=America/Chicago:20191107T200000
DTEND;TZID=America/Chicago:20191107T220000
DTSTAMP:20260423T052416
CREATED:20190726T003931Z
LAST-MODIFIED:20190726T003931Z
UID:9341-1573156800-1573164000@www.live80skc.com
SUMMARY:Kris Kristofferson & The Strangers
DESCRIPTION:
URL:https://www.live80skc.com/kansas-city-concert/kris-kristofferson-the-strangers-uptown-theater-2019/
LOCATION:Uptown Theater\, 3700 Broadway\, Kansas City\, MO\, 64111\, United States
END:VEVENT
END:VCALENDAR