BEGIN:VCALENDAR
VERSION:2.0
PRODID:-//Live &#039;80s Kansas City - ECPv5.6.0//NONSGML v1.0//EN
CALSCALE:GREGORIAN
METHOD:PUBLISH
X-WR-CALNAME:Live &#039;80s Kansas City
X-ORIGINAL-URL:https://www.live80skc.com
X-WR-CALDESC:Events for Live &#039;80s Kansas City
BEGIN:VTIMEZONE
TZID:America/Chicago
BEGIN:DAYLIGHT
TZOFFSETFROM:-0600
TZOFFSETTO:-0500
TZNAME:CDT
DTSTART:20210314T080000
END:DAYLIGHT
BEGIN:STANDARD
TZOFFSETFROM:-0500
TZOFFSETTO:-0600
TZNAME:CST
DTSTART:20211107T070000
END:STANDARD
END:VTIMEZONE
BEGIN:VEVENT
DTSTART;TZID=America/Chicago:20211215T200000
DTEND;TZID=America/Chicago:20211215T220000
DTSTAMP:20260423T054103
CREATED:20200211T184437Z
LAST-MODIFIED:20210613T192143Z
UID:10297-1639598400-1639605600@www.live80skc.com
SUMMARY:Lindsey Buckingham
DESCRIPTION:
URL:https://www.live80skc.com/kansas-city-concert/lindsey-buckingham-uptown-theater-2021/
LOCATION:Uptown Theater\, 3700 Broadway\, Kansas City\, MO\, 64111\, United States
CATEGORIES:Theater,Uptown Theater
END:VEVENT
END:VCALENDAR