BEGIN:VCALENDAR
VERSION:2.0
PRODID:-//Live &#039;80s Kansas City - ECPv5.6.0//NONSGML v1.0//EN
CALSCALE:GREGORIAN
METHOD:PUBLISH
X-WR-CALNAME:Live &#039;80s Kansas City
X-ORIGINAL-URL:https://www.live80skc.com
X-WR-CALDESC:Events for Live &#039;80s Kansas City
BEGIN:VTIMEZONE
TZID:America/Chicago
BEGIN:DAYLIGHT
TZOFFSETFROM:-0600
TZOFFSETTO:-0500
TZNAME:CDT
DTSTART:20170312T080000
END:DAYLIGHT
BEGIN:STANDARD
TZOFFSETFROM:-0500
TZOFFSETTO:-0600
TZNAME:CST
DTSTART:20171105T070000
END:STANDARD
END:VTIMEZONE
BEGIN:VEVENT
DTSTART;TZID=America/Chicago:20170827T193000
DTEND;TZID=America/Chicago:20170827T223000
DTSTAMP:20260423T080609
CREATED:20161214T000324Z
LAST-MODIFIED:20170311T172118Z
UID:3435-1503862200-1503873000@www.live80skc.com
SUMMARY:Lionel Richie w/ Mariah Carey
DESCRIPTION:
URL:https://www.live80skc.com/kansas-city-concert/lionel-richie/
LOCATION:Sprint Center\, 1407 Grand Boulevard\, Kansas City\, MO\, 64106\, United States
END:VEVENT
END:VCALENDAR