BEGIN:VCALENDAR
VERSION:2.0
PRODID:-//Live &#039;80s Kansas City - ECPv5.6.0//NONSGML v1.0//EN
CALSCALE:GREGORIAN
METHOD:PUBLISH
X-WR-CALNAME:Live &#039;80s Kansas City
X-ORIGINAL-URL:https://www.live80skc.com
X-WR-CALDESC:Events for Live &#039;80s Kansas City
BEGIN:VTIMEZONE
TZID:UTC
BEGIN:STANDARD
TZOFFSETFROM:+0000
TZOFFSETTO:+0000
TZNAME:UTC
DTSTART:20160101T000000
END:STANDARD
END:VTIMEZONE
BEGIN:VEVENT
DTSTART;TZID=UTC:20160604T210000
DTEND;TZID=UTC:20160604T230000
DTSTAMP:20260423T035242
CREATED:20160414T041853Z
LAST-MODIFIED:20160527T232617Z
UID:2147-1465074000-1465081200@www.live80skc.com
SUMMARY:Loverboy
DESCRIPTION:
URL:https://www.live80skc.com/kansas-city-concert/loverboy/
LOCATION:Old Shawnee Days\, 11600 Johnson Drive\, Shawnee\, KS\, 66203\, United States
END:VEVENT
END:VCALENDAR