BEGIN:VCALENDAR
VERSION:2.0
PRODID:-//Live &#039;80s Kansas City - ECPv5.6.0//NONSGML v1.0//EN
CALSCALE:GREGORIAN
METHOD:PUBLISH
X-WR-CALNAME:Live &#039;80s Kansas City
X-ORIGINAL-URL:https://www.live80skc.com
X-WR-CALDESC:Events for Live &#039;80s Kansas City
BEGIN:VTIMEZONE
TZID:America/Chicago
BEGIN:DAYLIGHT
TZOFFSETFROM:-0600
TZOFFSETTO:-0500
TZNAME:CDT
DTSTART:20220313T080000
END:DAYLIGHT
BEGIN:STANDARD
TZOFFSETFROM:-0500
TZOFFSETTO:-0600
TZNAME:CST
DTSTART:20221106T070000
END:STANDARD
END:VTIMEZONE
BEGIN:VEVENT
DTSTART;TZID=America/Chicago:20220416T200000
DTEND;TZID=America/Chicago:20220416T230000
DTSTAMP:20260423T080855
CREATED:20220211T044433Z
LAST-MODIFIED:20220211T044433Z
UID:11790-1650139200-1650150000@www.live80skc.com
SUMMARY:Lucinda Williams
DESCRIPTION:
URL:https://www.live80skc.com/kansas-city-concert/lucinda-williams-knuckleheads-saloon-2022/
LOCATION:Knuckleheads Saloon\, 2715 Rochester Avenue\, Kansas City\, MO\, 64120\, United States
CATEGORIES:Club,Knuckleheads Saloon
END:VEVENT
END:VCALENDAR