BEGIN:VCALENDAR
VERSION:2.0
PRODID:-//Live &#039;80s Kansas City - ECPv5.6.0//NONSGML v1.0//EN
CALSCALE:GREGORIAN
METHOD:PUBLISH
X-WR-CALNAME:Live &#039;80s Kansas City
X-ORIGINAL-URL:https://www.live80skc.com
X-WR-CALDESC:Events for Live &#039;80s Kansas City
BEGIN:VTIMEZONE
TZID:America/Chicago
BEGIN:DAYLIGHT
TZOFFSETFROM:-0600
TZOFFSETTO:-0500
TZNAME:CDT
DTSTART:20200308T080000
END:DAYLIGHT
BEGIN:STANDARD
TZOFFSETFROM:-0500
TZOFFSETTO:-0600
TZNAME:CST
DTSTART:20201101T070000
END:STANDARD
END:VTIMEZONE
BEGIN:VEVENT
DTSTART;TZID=America/Chicago:20200508T190000
DTEND;TZID=America/Chicago:20200508T203000
DTSTAMP:20260423T052406
CREATED:20200501T113120Z
LAST-MODIFIED:20200501T174402Z
UID:10510-1588964400-1588969800@www.live80skc.com
SUMMARY:The M80s Online Benefit Concert
DESCRIPTION:
URL:https://www.live80skc.com/kansas-city-concert/m80s-online-benefit-concert-kc-can-2020/
LOCATION:Knuckleheads Saloon\, 2715 Rochester Avenue\, Kansas City\, MO\, 64120\, United States
CATEGORIES:Club,Knuckleheads Saloon
END:VEVENT
END:VCALENDAR