BEGIN:VCALENDAR
VERSION:2.0
PRODID:-//Live &#039;80s Kansas City - ECPv5.6.0//NONSGML v1.0//EN
CALSCALE:GREGORIAN
METHOD:PUBLISH
X-WR-CALNAME:Live &#039;80s Kansas City
X-ORIGINAL-URL:https://www.live80skc.com
X-WR-CALDESC:Events for Live &#039;80s Kansas City
BEGIN:VTIMEZONE
TZID:America/Chicago
BEGIN:DAYLIGHT
TZOFFSETFROM:-0600
TZOFFSETTO:-0500
TZNAME:CDT
DTSTART:20190310T080000
END:DAYLIGHT
BEGIN:STANDARD
TZOFFSETFROM:-0500
TZOFFSETTO:-0600
TZNAME:CST
DTSTART:20191103T070000
END:STANDARD
END:VTIMEZONE
BEGIN:VEVENT
DTSTART;TZID=America/Chicago:20190828T200000
DTEND;TZID=America/Chicago:20190828T230000
DTSTAMP:20260423T052620
CREATED:20181023T055441Z
LAST-MODIFIED:20181023T055441Z
UID:7546-1567022400-1567033200@www.live80skc.com
SUMMARY:Mark Knopfler
DESCRIPTION:
URL:https://www.live80skc.com/kansas-city-concert/mark-knopfler-midland-theatre-kansas-city-2019/
LOCATION:The Midland Theatre\, 1228 Main Street\, Kansas City\, MO\, 64105\, United States
CATEGORIES:The Midland,Theater
END:VEVENT
END:VCALENDAR