BEGIN:VCALENDAR
VERSION:2.0
PRODID:-//Live &#039;80s Kansas City - ECPv5.6.0//NONSGML v1.0//EN
CALSCALE:GREGORIAN
METHOD:PUBLISH
X-WR-CALNAME:Live &#039;80s Kansas City
X-ORIGINAL-URL:https://www.live80skc.com
X-WR-CALDESC:Events for Live &#039;80s Kansas City
BEGIN:VTIMEZONE
TZID:America/Chicago
BEGIN:DAYLIGHT
TZOFFSETFROM:-0600
TZOFFSETTO:-0500
TZNAME:CDT
DTSTART:20210314T080000
END:DAYLIGHT
BEGIN:STANDARD
TZOFFSETFROM:-0500
TZOFFSETTO:-0600
TZNAME:CST
DTSTART:20211107T070000
END:STANDARD
END:VTIMEZONE
BEGIN:VEVENT
DTSTART;TZID=America/Chicago:20211021T190000
DTEND;TZID=America/Chicago:20211021T220000
DTSTAMP:20260423T051611
CREATED:20210523T203601Z
LAST-MODIFIED:20210523T203601Z
UID:10916-1634842800-1634853600@www.live80skc.com
SUMMARY:Marty Stuart & His Fabulous Superlatives
DESCRIPTION:
URL:https://www.live80skc.com/kansas-city-concert/marty-stuart-blue-note-columbia-mo-2021/
LOCATION:The Blue Note\, 17 N. 9th St.\, Columbia\, MO\, 65201\, United States
CATEGORIES:The Blue Note
END:VEVENT
END:VCALENDAR