BEGIN:VCALENDAR
VERSION:2.0
PRODID:-//Live &#039;80s Kansas City - ECPv5.6.0//NONSGML v1.0//EN
CALSCALE:GREGORIAN
METHOD:PUBLISH
X-WR-CALNAME:Live &#039;80s Kansas City
X-ORIGINAL-URL:https://www.live80skc.com
X-WR-CALDESC:Events for Live &#039;80s Kansas City
BEGIN:VTIMEZONE
TZID:America/Chicago
BEGIN:DAYLIGHT
TZOFFSETFROM:-0600
TZOFFSETTO:-0500
TZNAME:CDT
DTSTART:20240310T080000
END:DAYLIGHT
BEGIN:STANDARD
TZOFFSETFROM:-0500
TZOFFSETTO:-0600
TZNAME:CST
DTSTART:20241103T070000
END:STANDARD
END:VTIMEZONE
BEGIN:VEVENT
DTSTART;TZID=America/Chicago:20240223T200000
DTEND;TZID=America/Chicago:20240223T220000
DTSTAMP:20260423T064126
CREATED:20231125T033447Z
LAST-MODIFIED:20231125T033639Z
UID:14693-1708718400-1708725600@www.live80skc.com
SUMMARY:Marty Stuart and His Fabulous Superlatives
DESCRIPTION:
URL:https://www.live80skc.com/kansas-city-concert/marty-stuart-folly-theater-2024/
LOCATION:Folly Theater\, 300 West 12th Street\, Kansas City\, MO\, 64105\, United States
CATEGORIES:Folly Theater,Theater
END:VEVENT
END:VCALENDAR