BEGIN:VCALENDAR
VERSION:2.0
PRODID:-//Live &#039;80s Kansas City - ECPv5.6.0//NONSGML v1.0//EN
CALSCALE:GREGORIAN
METHOD:PUBLISH
X-WR-CALNAME:Live &#039;80s Kansas City
X-ORIGINAL-URL:https://www.live80skc.com
X-WR-CALDESC:Events for Live &#039;80s Kansas City
BEGIN:VTIMEZONE
TZID:America/Chicago
BEGIN:DAYLIGHT
TZOFFSETFROM:-0600
TZOFFSETTO:-0500
TZNAME:CDT
DTSTART:20190310T080000
END:DAYLIGHT
BEGIN:STANDARD
TZOFFSETFROM:-0500
TZOFFSETTO:-0600
TZNAME:CST
DTSTART:20191103T070000
END:STANDARD
END:VTIMEZONE
BEGIN:VEVENT
DTSTART;TZID=America/Chicago:20191010T190000
DTEND;TZID=America/Chicago:20191010T210000
DTSTAMP:20260423T064241
CREATED:20190503T031021Z
LAST-MODIFIED:20190503T031021Z
UID:8677-1570734000-1570741200@www.live80skc.com
SUMMARY:Mary Chapin Carpenter & Shawn Colvin
DESCRIPTION:
URL:https://www.live80skc.com/kansas-city-concert/mary-chapin-carpenter-shawn-colvin-kauffman-center-2019/
LOCATION:Kauffman Center for the Performing Arts\, 1601 Broadway Boulevard\, Kansas City\, MO\, 64108\, United States
CATEGORIES:Kauffman Center,Theater
END:VEVENT
END:VCALENDAR