BEGIN:VCALENDAR
VERSION:2.0
PRODID:-//Live &#039;80s Kansas City - ECPv5.6.0//NONSGML v1.0//EN
CALSCALE:GREGORIAN
METHOD:PUBLISH
X-WR-CALNAME:Live &#039;80s Kansas City
X-ORIGINAL-URL:https://www.live80skc.com
X-WR-CALDESC:Events for Live &#039;80s Kansas City
BEGIN:VTIMEZONE
TZID:UTC
BEGIN:STANDARD
TZOFFSETFROM:+0000
TZOFFSETTO:+0000
TZNAME:UTC
DTSTART:20160101T000000
END:STANDARD
END:VTIMEZONE
BEGIN:VEVENT
DTSTART;TZID=UTC:20160730T200000
DTEND;TZID=UTC:20160730T230000
DTSTAMP:20260425T171822
CREATED:20160414T045512Z
LAST-MODIFIED:20160525T052724Z
UID:2162-1469908800-1469919600@www.live80skc.com
SUMMARY:Mickey Gilley
DESCRIPTION:
URL:https://www.live80skc.com/kansas-city-concert/mickey-gilley/
LOCATION:Ameristar Casino\, 3200 North Ameristar Drive\, Kansas City\, MO\, 64161\, United States
END:VEVENT
END:VCALENDAR