BEGIN:VCALENDAR
VERSION:2.0
PRODID:-//Live &#039;80s Kansas City - ECPv5.6.0//NONSGML v1.0//EN
CALSCALE:GREGORIAN
METHOD:PUBLISH
X-WR-CALNAME:Live &#039;80s Kansas City
X-ORIGINAL-URL:https://www.live80skc.com
X-WR-CALDESC:Events for Live &#039;80s Kansas City
BEGIN:VTIMEZONE
TZID:America/Chicago
BEGIN:DAYLIGHT
TZOFFSETFROM:-0600
TZOFFSETTO:-0500
TZNAME:CDT
DTSTART:20220313T080000
END:DAYLIGHT
BEGIN:STANDARD
TZOFFSETFROM:-0500
TZOFFSETTO:-0600
TZNAME:CST
DTSTART:20221106T070000
END:STANDARD
END:VTIMEZONE
BEGIN:VEVENT
DTSTART;TZID=America/Chicago:20220515T193000
DTEND;TZID=America/Chicago:20220515T230000
DTSTAMP:20260423T024543
CREATED:20211008T040659Z
LAST-MODIFIED:20211008T040659Z
UID:11410-1652643000-1652655600@www.live80skc.com
SUMMARY:NKOTB w/ Salt-N-Pepa\, Rick Astley & En Vogue
DESCRIPTION:
URL:https://www.live80skc.com/kansas-city-concert/nkotb-salt-n-pepa-rick-astley-en-vogue-t-mobile-center-2022/
LOCATION:T-Mobile Center\, 1407 Grand Boulevard\, Kansas City\, MO\, 64106\, United States
CATEGORIES:Big Arena,T-Mobile Center
END:VEVENT
END:VCALENDAR