BEGIN:VCALENDAR
VERSION:2.0
PRODID:-//Live &#039;80s Kansas City - ECPv5.6.0//NONSGML v1.0//EN
CALSCALE:GREGORIAN
METHOD:PUBLISH
X-WR-CALNAME:Live &#039;80s Kansas City
X-ORIGINAL-URL:https://www.live80skc.com
X-WR-CALDESC:Events for Live &#039;80s Kansas City
BEGIN:VTIMEZONE
TZID:America/Chicago
BEGIN:DAYLIGHT
TZOFFSETFROM:-0600
TZOFFSETTO:-0500
TZNAME:CDT
DTSTART:20260308T080000
END:DAYLIGHT
BEGIN:STANDARD
TZOFFSETFROM:-0500
TZOFFSETTO:-0600
TZNAME:CST
DTSTART:20261101T070000
END:STANDARD
END:VTIMEZONE
BEGIN:VEVENT
DTSTART;TZID=America/Chicago:20260404T193000
DTEND;TZID=America/Chicago:20260404T220000
DTSTAMP:20260423T024458
CREATED:20251204T034014Z
LAST-MODIFIED:20251204T034042Z
UID:17696-1775331000-1775340000@www.live80skc.com
SUMMARY:Pat Metheny
DESCRIPTION:
URL:https://www.live80skc.com/kansas-city-concert/pat-metheny-kauffman-center-2026/
LOCATION:Kauffman Center for the Performing Arts\, 1601 Broadway Boulevard\, Kansas City\, MO\, 64108\, United States
END:VEVENT
END:VCALENDAR