BEGIN:VCALENDAR
VERSION:2.0
PRODID:-//Live &#039;80s Kansas City - ECPv5.6.0//NONSGML v1.0//EN
CALSCALE:GREGORIAN
METHOD:PUBLISH
X-WR-CALNAME:Live &#039;80s Kansas City
X-ORIGINAL-URL:https://www.live80skc.com
X-WR-CALDESC:Events for Live &#039;80s Kansas City
BEGIN:VTIMEZONE
TZID:America/Chicago
BEGIN:DAYLIGHT
TZOFFSETFROM:-0600
TZOFFSETTO:-0500
TZNAME:CDT
DTSTART:20190310T080000
END:DAYLIGHT
BEGIN:STANDARD
TZOFFSETFROM:-0500
TZOFFSETTO:-0600
TZNAME:CST
DTSTART:20191103T070000
END:STANDARD
END:VTIMEZONE
BEGIN:VEVENT
DTSTART;TZID=America/Chicago:20191017T200000
DTEND;TZID=America/Chicago:20191017T220000
DTSTAMP:20260423T064022
CREATED:20190725T021421Z
LAST-MODIFIED:20190725T021421Z
UID:9334-1571342400-1571349600@www.live80skc.com
SUMMARY:Pat Travers Band
DESCRIPTION:
URL:https://www.live80skc.com/kansas-city-concert/pat-travers-band-knuckleheads-saloon-2019/
LOCATION:Knuckleheads Saloon\, 2715 Rochester Avenue\, Kansas City\, MO\, 64120\, United States
CATEGORIES:Club,Knuckleheads Saloon
END:VEVENT
END:VCALENDAR