BEGIN:VCALENDAR
VERSION:2.0
PRODID:-//Live &#039;80s Kansas City - ECPv5.6.0//NONSGML v1.0//EN
CALSCALE:GREGORIAN
METHOD:PUBLISH
X-WR-CALNAME:Live &#039;80s Kansas City
X-ORIGINAL-URL:https://www.live80skc.com
X-WR-CALDESC:Events for Live &#039;80s Kansas City
BEGIN:VTIMEZONE
TZID:America/Chicago
BEGIN:DAYLIGHT
TZOFFSETFROM:-0600
TZOFFSETTO:-0500
TZNAME:CDT
DTSTART:20160313T080000
END:DAYLIGHT
BEGIN:STANDARD
TZOFFSETFROM:-0500
TZOFFSETTO:-0600
TZNAME:CST
DTSTART:20161106T070000
END:STANDARD
END:VTIMEZONE
BEGIN:VEVENT
DTSTART;TZID=America/Chicago:20161025T190000
DTEND;TZID=America/Chicago:20161025T210000
DTSTAMP:20260423T053929
CREATED:20160922T020013Z
LAST-MODIFIED:20160925T212407Z
UID:3125-1477422000-1477429200@www.live80skc.com
SUMMARY:"Pumpkinhead" (1988)
DESCRIPTION:
URL:https://www.live80skc.com/kansas-city-concert/pumpkinhead-1986/
LOCATION:Alamo Drafthouse\, 1400 Main Street\, Kansas City\, MO\, 64105\, United States
END:VEVENT
END:VCALENDAR