BEGIN:VCALENDAR
VERSION:2.0
PRODID:-//Live &#039;80s Kansas City - ECPv5.6.0//NONSGML v1.0//EN
CALSCALE:GREGORIAN
METHOD:PUBLISH
X-WR-CALNAME:Live &#039;80s Kansas City
X-ORIGINAL-URL:https://www.live80skc.com
X-WR-CALDESC:Events for Live &#039;80s Kansas City
BEGIN:VTIMEZONE
TZID:America/Chicago
BEGIN:DAYLIGHT
TZOFFSETFROM:-0600
TZOFFSETTO:-0500
TZNAME:CDT
DTSTART:20240310T080000
END:DAYLIGHT
BEGIN:STANDARD
TZOFFSETFROM:-0500
TZOFFSETTO:-0600
TZNAME:CST
DTSTART:20241103T070000
END:STANDARD
END:VTIMEZONE
BEGIN:VEVENT
DTSTART;TZID=America/Chicago:20240619T193000
DTEND;TZID=America/Chicago:20240619T230000
DTSTAMP:20260423T040458
CREATED:20240312T034856Z
LAST-MODIFIED:20240312T034856Z
UID:14934-1718825400-1718838000@www.live80skc.com
SUMMARY:REO Speedwagon w/ Night Ranger
DESCRIPTION:
URL:https://www.live80skc.com/kansas-city-concert/reo-speedwagon-night-ranger-starlight-theatre-2024/
LOCATION:Starlight Theatre\, 4600 Starlight Road\, Kansas City\, MO\, 64132\, United States
CATEGORIES:Amphitheater,Starlight Theatre
END:VEVENT
END:VCALENDAR