BEGIN:VCALENDAR
VERSION:2.0
PRODID:-//Live &#039;80s Kansas City - ECPv5.6.0//NONSGML v1.0//EN
CALSCALE:GREGORIAN
METHOD:PUBLISH
X-WR-CALNAME:Live &#039;80s Kansas City
X-ORIGINAL-URL:https://www.live80skc.com
X-WR-CALDESC:Events for Live &#039;80s Kansas City
BEGIN:VTIMEZONE
TZID:America/Chicago
BEGIN:DAYLIGHT
TZOFFSETFROM:-0600
TZOFFSETTO:-0500
TZNAME:CDT
DTSTART:20240310T080000
END:DAYLIGHT
BEGIN:STANDARD
TZOFFSETFROM:-0500
TZOFFSETTO:-0600
TZNAME:CST
DTSTART:20241103T070000
END:STANDARD
END:VTIMEZONE
BEGIN:VEVENT
DTSTART;TZID=America/Chicago:20240821T080000
DTEND;TZID=America/Chicago:20240825T233000
DTSTAMP:20260423T040458
CREATED:20240218T191537Z
LAST-MODIFIED:20240224T184751Z
UID:14910-1724227200-1724628600@www.live80skc.com
SUMMARY:Retromania LIVE 2024
DESCRIPTION:Vince Neil\, Bobby Brown\, Night Ranger\, Quiet Riot\, Stephen Pearcy\, Tom Keifer\, Lou Gramm\, KC and the Sunshine Band\, Starship feat. Mickey Thomas\, Jesus Jones and Tiffany plus Pauly Shore
URL:https://www.live80skc.com/kansas-city-concert/retromania-live-mansion-theatre-branson-2024/
LOCATION:The Mansion Theatre for the Performing Arts\, 189 Expressway Ln\, Branson\, MO\, 65616\, United States
CATEGORIES:Festival,The Mansion Theatre
END:VEVENT
END:VCALENDAR