BEGIN:VCALENDAR
VERSION:2.0
PRODID:-//Live &#039;80s Kansas City - ECPv5.6.0//NONSGML v1.0//EN
CALSCALE:GREGORIAN
METHOD:PUBLISH
X-WR-CALNAME:Live &#039;80s Kansas City
X-ORIGINAL-URL:https://www.live80skc.com
X-WR-CALDESC:Events for Live &#039;80s Kansas City
BEGIN:VTIMEZONE
TZID:America/Chicago
BEGIN:DAYLIGHT
TZOFFSETFROM:-0600
TZOFFSETTO:-0500
TZNAME:CDT
DTSTART:20230312T080000
END:DAYLIGHT
BEGIN:STANDARD
TZOFFSETFROM:-0500
TZOFFSETTO:-0600
TZNAME:CST
DTSTART:20231105T070000
END:STANDARD
END:VTIMEZONE
BEGIN:VEVENT
DTSTART;TZID=America/Chicago:20230818T080000
DTEND;TZID=America/Chicago:20230818T170000
DTSTAMP:20260423T040605
CREATED:20230524T005439Z
LAST-MODIFIED:20230524T005439Z
UID:13652-1692345600-1692378000@www.live80skc.com
SUMMARY:Richard Marx
DESCRIPTION:
URL:https://www.live80skc.com/kansas-city-concert/richard-marx-river-city-casino-hotel-st-louis-2023/
LOCATION:River City Casino Hotel\, 777 River City Casino Blvd\, St. Louis\, MO\, 63125\, United States
CATEGORIES:Casino,River City Casino Hotel
END:VEVENT
END:VCALENDAR