BEGIN:VCALENDAR
VERSION:2.0
PRODID:-//Live &#039;80s Kansas City - ECPv5.6.0//NONSGML v1.0//EN
CALSCALE:GREGORIAN
METHOD:PUBLISH
X-WR-CALNAME:Live &#039;80s Kansas City
X-ORIGINAL-URL:https://www.live80skc.com
X-WR-CALDESC:Events for Live &#039;80s Kansas City
BEGIN:VTIMEZONE
TZID:America/Chicago
BEGIN:DAYLIGHT
TZOFFSETFROM:-0600
TZOFFSETTO:-0500
TZNAME:CDT
DTSTART:20220313T080000
END:DAYLIGHT
BEGIN:STANDARD
TZOFFSETFROM:-0500
TZOFFSETTO:-0600
TZNAME:CST
DTSTART:20221106T070000
END:STANDARD
END:VTIMEZONE
BEGIN:VEVENT
DTSTART;TZID=America/Chicago:20220519T190000
DTEND;TZID=America/Chicago:20220519T220000
DTSTAMP:20260423T024630
CREATED:20220323T040117Z
LAST-MODIFIED:20220323T040117Z
UID:11940-1652986800-1652997600@www.live80skc.com
SUMMARY:Robert Earl Keen
DESCRIPTION:
URL:https://www.live80skc.com/kansas-city-concert/robert-earl-keen-uptown-theater-2022/
LOCATION:Uptown Theater\, 3700 Broadway\, Kansas City\, MO\, 64111\, United States
CATEGORIES:Theater,Uptown Theater
END:VEVENT
END:VCALENDAR