BEGIN:VCALENDAR
VERSION:2.0
PRODID:-//Live &#039;80s Kansas City - ECPv5.6.0//NONSGML v1.0//EN
CALSCALE:GREGORIAN
METHOD:PUBLISH
X-WR-CALNAME:Live &#039;80s Kansas City
X-ORIGINAL-URL:https://www.live80skc.com
X-WR-CALDESC:Events for Live &#039;80s Kansas City
BEGIN:VTIMEZONE
TZID:America/Chicago
BEGIN:DAYLIGHT
TZOFFSETFROM:-0600
TZOFFSETTO:-0500
TZNAME:CDT
DTSTART:20170312T080000
END:DAYLIGHT
BEGIN:STANDARD
TZOFFSETFROM:-0500
TZOFFSETTO:-0600
TZNAME:CST
DTSTART:20171105T070000
END:STANDARD
END:VTIMEZONE
BEGIN:VEVENT
DTSTART;TZID=America/Chicago:20170603T120000
DTEND;TZID=America/Chicago:20170603T233000
DTSTAMP:20260423T080751
CREATED:20170408T194711Z
LAST-MODIFIED:20170408T194711Z
UID:3851-1496491200-1496532600@www.live80skc.com
SUMMARY:Rockfest 2017 w/ Sammy Hagar & Tom Keifer
DESCRIPTION:
URL:https://www.live80skc.com/kansas-city-concert/rockfest-2017-sammy-hagar-tom-keifer/
LOCATION:Kansas Speedway\, 400 Speedway Boulevard\, Kansas City\, KS\, 66111\, United States
END:VEVENT
END:VCALENDAR