BEGIN:VCALENDAR
VERSION:2.0
PRODID:-//Live &#039;80s Kansas City - ECPv5.6.0//NONSGML v1.0//EN
CALSCALE:GREGORIAN
METHOD:PUBLISH
X-WR-CALNAME:Live &#039;80s Kansas City
X-ORIGINAL-URL:https://www.live80skc.com
X-WR-CALDESC:Events for Live &#039;80s Kansas City
BEGIN:VTIMEZONE
TZID:America/Chicago
BEGIN:DAYLIGHT
TZOFFSETFROM:-0600
TZOFFSETTO:-0500
TZNAME:CDT
DTSTART:20240310T080000
END:DAYLIGHT
BEGIN:STANDARD
TZOFFSETFROM:-0500
TZOFFSETTO:-0600
TZNAME:CST
DTSTART:20241103T070000
END:STANDARD
END:VTIMEZONE
BEGIN:VEVENT
DTSTART;TZID=America/Chicago:20240721T200000
DTEND;TZID=America/Chicago:20240721T230000
DTSTAMP:20260423T064025
CREATED:20240524T195648Z
LAST-MODIFIED:20240524T195648Z
UID:15356-1721592000-1721602800@www.live80skc.com
SUMMARY:Rolling Stones
DESCRIPTION:
URL:https://www.live80skc.com/kansas-city-concert/rolling-stones-thunder-ridge-nature-arena-ridgedale-mo-2024/
LOCATION:Thunder Ridge Nature Arena\, 1901 State Hwy 86\, Ridgedale\, MO\, 65739\, United States
CATEGORIES:Amphitheater,Thunder Ridge Nature Arena
END:VEVENT
END:VCALENDAR