BEGIN:VCALENDAR
VERSION:2.0
PRODID:-//Live &#039;80s Kansas City - ECPv5.6.0//NONSGML v1.0//EN
CALSCALE:GREGORIAN
METHOD:PUBLISH
X-WR-CALNAME:Live &#039;80s Kansas City
X-ORIGINAL-URL:https://www.live80skc.com
X-WR-CALDESC:Events for Live &#039;80s Kansas City
BEGIN:VTIMEZONE
TZID:America/Chicago
BEGIN:DAYLIGHT
TZOFFSETFROM:-0600
TZOFFSETTO:-0500
TZNAME:CDT
DTSTART:20170312T080000
END:DAYLIGHT
BEGIN:STANDARD
TZOFFSETFROM:-0500
TZOFFSETTO:-0600
TZNAME:CST
DTSTART:20171105T070000
END:STANDARD
END:VTIMEZONE
BEGIN:VEVENT
DTSTART;TZID=America/Chicago:20170721T200000
DTEND;TZID=America/Chicago:20170721T230000
DTSTAMP:20260423T035323
CREATED:20170405T192757Z
LAST-MODIFIED:20170405T193031Z
UID:3825-1500667200-1500678000@www.live80skc.com
SUMMARY:The Romantics w/ The Smithereens & Bow Wow Wow
DESCRIPTION:
URL:https://www.live80skc.com/kansas-city-concert/romantics-smithereens-bow-wow-wow-crossroads/
LOCATION:GrindersKC\, 1826 Locust St.\, Kansas City\, MO\, 64108\, United States
END:VEVENT
END:VCALENDAR