BEGIN:VCALENDAR
VERSION:2.0
PRODID:-//Live &#039;80s Kansas City - ECPv5.6.0//NONSGML v1.0//EN
CALSCALE:GREGORIAN
METHOD:PUBLISH
X-WR-CALNAME:Live &#039;80s Kansas City
X-ORIGINAL-URL:https://www.live80skc.com
X-WR-CALDESC:Events for Live &#039;80s Kansas City
BEGIN:VTIMEZONE
TZID:America/Chicago
BEGIN:DAYLIGHT
TZOFFSETFROM:-0600
TZOFFSETTO:-0500
TZNAME:CDT
DTSTART:20160313T080000
END:DAYLIGHT
BEGIN:STANDARD
TZOFFSETFROM:-0500
TZOFFSETTO:-0600
TZNAME:CST
DTSTART:20161106T070000
END:STANDARD
END:VTIMEZONE
BEGIN:VEVENT
DTSTART;TZID=America/Chicago:20160927T200000
DTEND;TZID=America/Chicago:20160927T230000
DTSTAMP:20260423T051516
CREATED:20160916T210832Z
LAST-MODIFIED:20160925T213034Z
UID:3114-1475006400-1475017200@www.live80skc.com
SUMMARY:Sheila E.
DESCRIPTION:
URL:https://www.live80skc.com/kansas-city-concert/sheila-e/
LOCATION:KC Live!\, 1100 Walnut Street\, Kansas City\, Missouri\, 64106
END:VEVENT
END:VCALENDAR