BEGIN:VCALENDAR
VERSION:2.0
PRODID:-//Live &#039;80s Kansas City - ECPv5.6.0//NONSGML v1.0//EN
CALSCALE:GREGORIAN
METHOD:PUBLISH
X-WR-CALNAME:Live &#039;80s Kansas City
X-ORIGINAL-URL:https://www.live80skc.com
X-WR-CALDESC:Events for Live &#039;80s Kansas City
BEGIN:VTIMEZONE
TZID:America/Chicago
BEGIN:DAYLIGHT
TZOFFSETFROM:-0600
TZOFFSETTO:-0500
TZNAME:CDT
DTSTART:20190310T080000
END:DAYLIGHT
BEGIN:STANDARD
TZOFFSETFROM:-0500
TZOFFSETTO:-0600
TZNAME:CST
DTSTART:20191103T070000
END:STANDARD
END:VTIMEZONE
BEGIN:VEVENT
DTSTART;TZID=America/Chicago:20190119T203000
DTEND;TZID=America/Chicago:20190119T230000
DTSTAMP:20260423T064244
CREATED:20181108T004533Z
LAST-MODIFIED:20181108T004533Z
UID:7670-1547929800-1547938800@www.live80skc.com
SUMMARY:The Return of Shooting Star
DESCRIPTION:
URL:https://www.live80skc.com/kansas-city-concert/shooting-star-ameristar-casino-kansas-city-2019/
LOCATION:Ameristar Casino\, 3200 North Ameristar Drive\, Kansas City\, MO\, 64161\, United States
CATEGORIES:Ameristar Casino,Casino
END:VEVENT
END:VCALENDAR