BEGIN:VCALENDAR
VERSION:2.0
PRODID:-//Live &#039;80s Kansas City - ECPv5.6.0//NONSGML v1.0//EN
CALSCALE:GREGORIAN
METHOD:PUBLISH
X-WR-CALNAME:Live &#039;80s Kansas City
X-ORIGINAL-URL:https://www.live80skc.com
X-WR-CALDESC:Events for Live &#039;80s Kansas City
BEGIN:VTIMEZONE
TZID:America/Chicago
BEGIN:DAYLIGHT
TZOFFSETFROM:-0600
TZOFFSETTO:-0500
TZNAME:CDT
DTSTART:20230312T080000
END:DAYLIGHT
BEGIN:STANDARD
TZOFFSETFROM:-0500
TZOFFSETTO:-0600
TZNAME:CST
DTSTART:20231105T070000
END:STANDARD
END:VTIMEZONE
BEGIN:VEVENT
DTSTART;TZID=America/Chicago:20230318T203000
DTEND;TZID=America/Chicago:20230318T230000
DTSTAMP:20260423T024515
CREATED:20221021T174232Z
LAST-MODIFIED:20221027T024654Z
UID:12842-1679171400-1679180400@www.live80skc.com
SUMMARY:Shooting Star & Missouri
DESCRIPTION:
URL:https://www.live80skc.com/kansas-city-concert/shooting-star-missouri-ameristar-casino-2023/
LOCATION:Ameristar Casino\, 3200 North Ameristar Drive\, Kansas City\, MO\, 64161\, United States
CATEGORIES:Ameristar Casino,Casino
END:VEVENT
END:VCALENDAR