BEGIN:VCALENDAR
VERSION:2.0
PRODID:-//Live &#039;80s Kansas City - ECPv5.6.0//NONSGML v1.0//EN
CALSCALE:GREGORIAN
METHOD:PUBLISH
X-WR-CALNAME:Live &#039;80s Kansas City
X-ORIGINAL-URL:https://www.live80skc.com
X-WR-CALDESC:Events for Live &#039;80s Kansas City
BEGIN:VTIMEZONE
TZID:America/Chicago
BEGIN:DAYLIGHT
TZOFFSETFROM:-0600
TZOFFSETTO:-0500
TZNAME:CDT
DTSTART:20190310T080000
END:DAYLIGHT
BEGIN:STANDARD
TZOFFSETFROM:-0500
TZOFFSETTO:-0600
TZNAME:CST
DTSTART:20191103T070000
END:STANDARD
END:VTIMEZONE
BEGIN:VEVENT
DTSTART;TZID=America/Chicago:20190608T210000
DTEND;TZID=America/Chicago:20190608T223000
DTSTAMP:20260423T052301
CREATED:20190308T014036Z
LAST-MODIFIED:20190308T014036Z
UID:8471-1560027600-1560033000@www.live80skc.com
SUMMARY:Shooting Star at Old Shawnee Days
DESCRIPTION:
URL:https://www.live80skc.com/kansas-city-concert/shooting-star-old-shawnee-days-2019/
LOCATION:Old Shawnee Days\, 11600 Johnson Drive\, Shawnee\, KS\, 66203\, United States
CATEGORIES:Festival
END:VEVENT
END:VCALENDAR