BEGIN:VCALENDAR
VERSION:2.0
PRODID:-//Live &#039;80s Kansas City - ECPv5.6.0//NONSGML v1.0//EN
CALSCALE:GREGORIAN
METHOD:PUBLISH
X-WR-CALNAME:Live &#039;80s Kansas City
X-ORIGINAL-URL:https://www.live80skc.com
X-WR-CALDESC:Events for Live &#039;80s Kansas City
BEGIN:VTIMEZONE
TZID:America/Chicago
BEGIN:DAYLIGHT
TZOFFSETFROM:-0600
TZOFFSETTO:-0500
TZNAME:CDT
DTSTART:20240310T080000
END:DAYLIGHT
BEGIN:STANDARD
TZOFFSETFROM:-0500
TZOFFSETTO:-0600
TZNAME:CST
DTSTART:20241103T070000
END:STANDARD
END:VTIMEZONE
BEGIN:VEVENT
DTSTART;TZID=America/Chicago:20240501T190000
DTEND;TZID=America/Chicago:20240501T220000
DTSTAMP:20260423T064245
CREATED:20240118T210230Z
LAST-MODIFIED:20240118T210230Z
UID:14854-1714590000-1714600800@www.live80skc.com
SUMMARY:Steve Vai & Joe Satriani
DESCRIPTION:
URL:https://www.live80skc.com/kansas-city-concert/steve-vai-joe-satriani-uptown-theater-2024/
LOCATION:Uptown Theater\, 3700 Broadway\, Kansas City\, MO\, 64111\, United States
CATEGORIES:Theater,Uptown Theater
END:VEVENT
END:VCALENDAR