BEGIN:VCALENDAR
VERSION:2.0
PRODID:-//Live &#039;80s Kansas City - ECPv5.6.0//NONSGML v1.0//EN
CALSCALE:GREGORIAN
METHOD:PUBLISH
X-WR-CALNAME:Live &#039;80s Kansas City
X-ORIGINAL-URL:https://www.live80skc.com
X-WR-CALDESC:Events for Live &#039;80s Kansas City
BEGIN:VTIMEZONE
TZID:UTC
BEGIN:STANDARD
TZOFFSETFROM:+0000
TZOFFSETTO:+0000
TZNAME:UTC
DTSTART:20160101T000000
END:STANDARD
END:VTIMEZONE
BEGIN:VEVENT
DTSTART;TZID=UTC:20160628T200000
DTEND;TZID=UTC:20160628T230000
DTSTAMP:20260423T063828
CREATED:20160414T044342Z
LAST-MODIFIED:20160525T053251Z
UID:2156-1467144000-1467154800@www.live80skc.com
SUMMARY:Stryper
DESCRIPTION:
URL:https://www.live80skc.com/kansas-city-concert/stryper/
LOCATION:The Scene K.C. Rock Bar\, 14816 East US 40 Highway\, Kansas City\, MO\, 64136\, United States
END:VEVENT
END:VCALENDAR