BEGIN:VCALENDAR
VERSION:2.0
PRODID:-//Live &#039;80s Kansas City - ECPv5.6.0//NONSGML v1.0//EN
CALSCALE:GREGORIAN
METHOD:PUBLISH
X-WR-CALNAME:Live &#039;80s Kansas City
X-ORIGINAL-URL:https://www.live80skc.com
X-WR-CALDESC:Events for Live &#039;80s Kansas City
BEGIN:VTIMEZONE
TZID:America/Chicago
BEGIN:DAYLIGHT
TZOFFSETFROM:-0600
TZOFFSETTO:-0500
TZNAME:CDT
DTSTART:20250309T080000
END:DAYLIGHT
BEGIN:STANDARD
TZOFFSETFROM:-0500
TZOFFSETTO:-0600
TZNAME:CST
DTSTART:20251102T070000
END:STANDARD
END:VTIMEZONE
BEGIN:VEVENT
DTSTART;TZID=America/Chicago:20250702T184500
DTEND;TZID=America/Chicago:20250702T230000
DTSTAMP:20260423T064247
CREATED:20241212T022110Z
LAST-MODIFIED:20241222T040537Z
UID:16062-1751481900-1751497200@www.live80skc.com
SUMMARY:Styx w/ Kevin Cronin & Don Felder
DESCRIPTION:
URL:https://www.live80skc.com/kansas-city-concert/styx-w-kevin-cronin-don-felder-starlight-theatre-2025/
LOCATION:Starlight Theatre\, 4600 Starlight Road\, Kansas City\, MO\, 64132\, United States
END:VEVENT
END:VCALENDAR