BEGIN:VCALENDAR
VERSION:2.0
PRODID:-//Live &#039;80s Kansas City - ECPv5.6.0//NONSGML v1.0//EN
CALSCALE:GREGORIAN
METHOD:PUBLISH
X-WR-CALNAME:Live &#039;80s Kansas City
X-ORIGINAL-URL:https://www.live80skc.com
X-WR-CALDESC:Events for Live &#039;80s Kansas City
BEGIN:VTIMEZONE
TZID:America/Chicago
BEGIN:DAYLIGHT
TZOFFSETFROM:-0600
TZOFFSETTO:-0500
TZNAME:CDT
DTSTART:20260308T080000
END:DAYLIGHT
BEGIN:STANDARD
TZOFFSETFROM:-0500
TZOFFSETTO:-0600
TZNAME:CST
DTSTART:20261101T070000
END:STANDARD
END:VTIMEZONE
BEGIN:VEVENT
DTSTART;TZID=America/Chicago:20260730T183000
DTEND;TZID=America/Chicago:20260730T220000
DTSTAMP:20260423T023449
CREATED:20260130T024301Z
LAST-MODIFIED:20260130T024301Z
UID:17812-1785436200-1785448800@www.live80skc.com
SUMMARY:The Black Crowes
DESCRIPTION:
URL:https://www.live80skc.com/kansas-city-concert/the-black-crowes-morton-amp-2026/
LOCATION:Morton Amphitheater\, 1001 NW Argosy Pkwy.\, Riverside\, MO\, 64150\, United States
END:VEVENT
END:VCALENDAR