BEGIN:VCALENDAR
VERSION:2.0
PRODID:-//Live &#039;80s Kansas City - ECPv5.6.0//NONSGML v1.0//EN
CALSCALE:GREGORIAN
METHOD:PUBLISH
X-WR-CALNAME:Live &#039;80s Kansas City
X-ORIGINAL-URL:https://www.live80skc.com
X-WR-CALDESC:Events for Live &#039;80s Kansas City
BEGIN:VTIMEZONE
TZID:America/Chicago
BEGIN:DAYLIGHT
TZOFFSETFROM:-0600
TZOFFSETTO:-0500
TZNAME:CDT
DTSTART:20180311T080000
END:DAYLIGHT
BEGIN:STANDARD
TZOFFSETFROM:-0500
TZOFFSETTO:-0600
TZNAME:CST
DTSTART:20181104T070000
END:STANDARD
END:VTIMEZONE
BEGIN:VEVENT
DTSTART;TZID=America/Chicago:20180309T203000
DTEND;TZID=America/Chicago:20180309T223000
DTSTAMP:20260423T040609
CREATED:20171025T034226Z
LAST-MODIFIED:20171203T181253Z
UID:5146-1520627400-1520634600@www.live80skc.com
SUMMARY:Three Dog Night
DESCRIPTION:
URL:https://www.live80skc.com/kansas-city-concert/three-dog-night-ameristar-casino-kansas-city-2018/
LOCATION:Ameristar Casino\, 3200 North Ameristar Drive\, Kansas City\, MO\, 64161\, United States
CATEGORIES:Ameristar Casino,Casino
END:VEVENT
END:VCALENDAR