BEGIN:VCALENDAR
VERSION:2.0
PRODID:-//Live &#039;80s Kansas City - ECPv5.6.0//NONSGML v1.0//EN
CALSCALE:GREGORIAN
METHOD:PUBLISH
X-WR-CALNAME:Live &#039;80s Kansas City
X-ORIGINAL-URL:https://www.live80skc.com
X-WR-CALDESC:Events for Live &#039;80s Kansas City
BEGIN:VTIMEZONE
TZID:America/Chicago
BEGIN:DAYLIGHT
TZOFFSETFROM:-0600
TZOFFSETTO:-0500
TZNAME:CDT
DTSTART:20210314T080000
END:DAYLIGHT
BEGIN:STANDARD
TZOFFSETFROM:-0500
TZOFFSETTO:-0600
TZNAME:CST
DTSTART:20211107T070000
END:STANDARD
END:VTIMEZONE
BEGIN:VEVENT
DTSTART;TZID=America/Chicago:20210917T190000
DTEND;TZID=America/Chicago:20210917T220000
DTSTAMP:20260423T051752
CREATED:20210319T020458Z
LAST-MODIFIED:20210319T020458Z
UID:10778-1631905200-1631916000@www.live80skc.com
SUMMARY:Three Dog Night
DESCRIPTION:
URL:https://www.live80skc.com/kansas-city-concert/three-dog-night-ozarks-amphitheater-camdenton-mo-2021/
LOCATION:Ozarks Amphitheater\, 2629 North Business Route 5\, Camdenton\, MO\, 65020\, United States
CATEGORIES:Amphitheater,Ozarks Amphitheater
END:VEVENT
END:VCALENDAR