BEGIN:VCALENDAR
VERSION:2.0
PRODID:-//Live &#039;80s Kansas City - ECPv5.6.0//NONSGML v1.0//EN
CALSCALE:GREGORIAN
METHOD:PUBLISH
X-WR-CALNAME:Live &#039;80s Kansas City
X-ORIGINAL-URL:https://www.live80skc.com
X-WR-CALDESC:Events for Live &#039;80s Kansas City
BEGIN:VTIMEZONE
TZID:America/Chicago
BEGIN:DAYLIGHT
TZOFFSETFROM:-0600
TZOFFSETTO:-0500
TZNAME:CDT
DTSTART:20220313T080000
END:DAYLIGHT
BEGIN:STANDARD
TZOFFSETFROM:-0500
TZOFFSETTO:-0600
TZNAME:CST
DTSTART:20221106T070000
END:STANDARD
END:VTIMEZONE
BEGIN:VEVENT
DTSTART;TZID=America/Chicago:20220610T200000
DTEND;TZID=America/Chicago:20220610T230000
DTSTAMP:20260423T040453
CREATED:20220602T033504Z
LAST-MODIFIED:20220602T034835Z
UID:12272-1654891200-1654902000@www.live80skc.com
SUMMARY:Tommy Tutone w/ The M80s
DESCRIPTION:
URL:https://www.live80skc.com/kansas-city-concert/tommy-tutone-m80s-aztec-theater-shawnee-ks/
LOCATION:Aztec Theater\, 11119 Johnson Drive\, Shawnee\, KS\, 66203\, United States
CATEGORIES:Aztec Theater,Theater
END:VEVENT
END:VCALENDAR