BEGIN:VCALENDAR
VERSION:2.0
PRODID:-//Live &#039;80s Kansas City - ECPv5.6.0//NONSGML v1.0//EN
CALSCALE:GREGORIAN
METHOD:PUBLISH
X-WR-CALNAME:Live &#039;80s Kansas City
X-ORIGINAL-URL:https://www.live80skc.com
X-WR-CALDESC:Events for Live &#039;80s Kansas City
BEGIN:VTIMEZONE
TZID:America/Chicago
BEGIN:DAYLIGHT
TZOFFSETFROM:-0600
TZOFFSETTO:-0500
TZNAME:CDT
DTSTART:20240310T080000
END:DAYLIGHT
BEGIN:STANDARD
TZOFFSETFROM:-0500
TZOFFSETTO:-0600
TZNAME:CST
DTSTART:20241103T070000
END:STANDARD
END:VTIMEZONE
BEGIN:VEVENT
DTSTART;TZID=America/Chicago:20241108T200000
DTEND;TZID=America/Chicago:20241108T200000
DTSTAMP:20260423T024629
CREATED:20241108T041307Z
LAST-MODIFIED:20241108T041307Z
UID:16027-1731096000-1731096000@www.live80skc.com
SUMMARY:Tony! Toni! Toné!
DESCRIPTION:
URL:https://www.live80skc.com/kansas-city-concert/tony-toni-tone-midland-theatre-2024/
LOCATION:The Midland Theatre\, 1228 Main Street\, Kansas City\, MO\, 64105\, United States
END:VEVENT
END:VCALENDAR