BEGIN:VCALENDAR
VERSION:2.0
PRODID:-//Live &#039;80s Kansas City - ECPv5.6.0//NONSGML v1.0//EN
CALSCALE:GREGORIAN
METHOD:PUBLISH
X-WR-CALNAME:Live &#039;80s Kansas City
X-ORIGINAL-URL:https://www.live80skc.com
X-WR-CALDESC:Events for Live &#039;80s Kansas City
BEGIN:VTIMEZONE
TZID:America/Chicago
BEGIN:DAYLIGHT
TZOFFSETFROM:-0600
TZOFFSETTO:-0500
TZNAME:CDT
DTSTART:20170312T080000
END:DAYLIGHT
BEGIN:STANDARD
TZOFFSETFROM:-0500
TZOFFSETTO:-0600
TZNAME:CST
DTSTART:20171105T070000
END:STANDARD
END:VTIMEZONE
BEGIN:VEVENT
DTSTART;TZID=America/Chicago:20171118T180000
DTEND;TZID=America/Chicago:20171118T220000
DTSTAMP:20260423T064255
CREATED:20171025T040806Z
LAST-MODIFIED:20171203T181906Z
UID:5148-1511028000-1511042400@www.live80skc.com
SUMMARY:Tora Tora & Every Mother's Nightmare
DESCRIPTION:
URL:https://www.live80skc.com/kansas-city-concert/tora-tora-every-mothers-nightmare-the-scene-kansas-city-2018/
LOCATION:The Scene K.C. Rock Bar\, 14816 East US 40 Highway\, Kansas City\, MO\, 64136\, United States
CATEGORIES:Club,The Scene
END:VEVENT
END:VCALENDAR