BEGIN:VCALENDAR
VERSION:2.0
PRODID:-//Live &#039;80s Kansas City - ECPv5.6.0//NONSGML v1.0//EN
CALSCALE:GREGORIAN
METHOD:PUBLISH
X-WR-CALNAME:Live &#039;80s Kansas City
X-ORIGINAL-URL:https://www.live80skc.com
X-WR-CALDESC:Events for Live &#039;80s Kansas City
BEGIN:VTIMEZONE
TZID:America/Chicago
BEGIN:DAYLIGHT
TZOFFSETFROM:-0600
TZOFFSETTO:-0500
TZNAME:CDT
DTSTART:20210314T080000
END:DAYLIGHT
BEGIN:STANDARD
TZOFFSETFROM:-0500
TZOFFSETTO:-0600
TZNAME:CST
DTSTART:20211107T070000
END:STANDARD
END:VTIMEZONE
BEGIN:VEVENT
DTSTART;TZID=America/Chicago:20211203T203000
DTEND;TZID=America/Chicago:20211203T223000
DTSTAMP:20260423T064242
CREATED:20210209T035448Z
LAST-MODIFIED:20210429T025222Z
UID:10729-1638563400-1638570600@www.live80skc.com
SUMMARY:Travis Tritt
DESCRIPTION:
URL:https://www.live80skc.com/kansas-city-concert/travis-tritt-ameristar-casino-kansas-city-2021/
LOCATION:Ameristar Casino\, 3200 North Ameristar Drive\, Kansas City\, MO\, 64161\, United States
CATEGORIES:Ameristar Casino,Casino
END:VEVENT
END:VCALENDAR