BEGIN:VCALENDAR
VERSION:2.0
PRODID:-//Live &#039;80s Kansas City - ECPv5.6.0//NONSGML v1.0//EN
CALSCALE:GREGORIAN
METHOD:PUBLISH
X-WR-CALNAME:Live &#039;80s Kansas City
X-ORIGINAL-URL:https://www.live80skc.com
X-WR-CALDESC:Events for Live &#039;80s Kansas City
BEGIN:VTIMEZONE
TZID:America/Chicago
BEGIN:DAYLIGHT
TZOFFSETFROM:-0600
TZOFFSETTO:-0500
TZNAME:CDT
DTSTART:20210314T080000
END:DAYLIGHT
BEGIN:STANDARD
TZOFFSETFROM:-0500
TZOFFSETTO:-0600
TZNAME:CST
DTSTART:20211107T070000
END:STANDARD
END:VTIMEZONE
BEGIN:VEVENT
DTSTART;TZID=America/Chicago:20211113T203000
DTEND;TZID=America/Chicago:20211113T223000
DTSTAMP:20260423T040613
CREATED:20200220T224148Z
LAST-MODIFIED:20210827T165536Z
UID:10342-1636835400-1636842600@www.live80skc.com
SUMMARY:Urban Cowboys Ride Again starring Mickey Gilley & Johnny Lee
DESCRIPTION:
URL:https://www.live80skc.com/kansas-city-concert/urban-cowboy-reunion-mickey-gilley-johnny-lee-ameristar-casino-2021/
LOCATION:Ameristar Casino\, 3200 North Ameristar Drive\, Kansas City\, MO\, 64161\, United States
CATEGORIES:Ameristar Casino,Casino
END:VEVENT
END:VCALENDAR