BEGIN:VCALENDAR
VERSION:2.0
PRODID:-//Live &#039;80s Kansas City - ECPv5.6.0//NONSGML v1.0//EN
CALSCALE:GREGORIAN
METHOD:PUBLISH
X-WR-CALNAME:Live &#039;80s Kansas City
X-ORIGINAL-URL:https://www.live80skc.com
X-WR-CALDESC:Events for Live &#039;80s Kansas City
BEGIN:VTIMEZONE
TZID:America/Chicago
BEGIN:DAYLIGHT
TZOFFSETFROM:-0600
TZOFFSETTO:-0500
TZNAME:CDT
DTSTART:20210314T080000
END:DAYLIGHT
BEGIN:STANDARD
TZOFFSETFROM:-0500
TZOFFSETTO:-0600
TZNAME:CST
DTSTART:20211107T070000
END:STANDARD
END:VTIMEZONE
BEGIN:VEVENT
DTSTART;TZID=America/Chicago:20210814T180000
DTEND;TZID=America/Chicago:20210814T210000
DTSTAMP:20260423T064157
CREATED:20210529T195010Z
LAST-MODIFIED:20210529T195010Z
UID:10936-1628964000-1628974800@www.live80skc.com
SUMMARY:Vince Neil
DESCRIPTION:
URL:https://www.live80skc.com/kansas-city-concert/vince-neil-regalia-hotel-lake-ozarks-mo-2021/
LOCATION:Regalia Hotel\, 250 Racquet Club Drive\, Lake Ozark\, MO\, 65049\, United States
CATEGORIES:Regalia Hotel & Conference Center
END:VEVENT
END:VCALENDAR