BEGIN:VCALENDAR
VERSION:2.0
PRODID:-//Live &#039;80s Kansas City - ECPv5.6.0//NONSGML v1.0//EN
CALSCALE:GREGORIAN
METHOD:PUBLISH
X-WR-CALNAME:Live &#039;80s Kansas City
X-ORIGINAL-URL:https://www.live80skc.com
X-WR-CALDESC:Events for Live &#039;80s Kansas City
BEGIN:VTIMEZONE
TZID:America/Chicago
BEGIN:DAYLIGHT
TZOFFSETFROM:-0600
TZOFFSETTO:-0500
TZNAME:CDT
DTSTART:20190310T080000
END:DAYLIGHT
BEGIN:STANDARD
TZOFFSETFROM:-0500
TZOFFSETTO:-0600
TZNAME:CST
DTSTART:20191103T070000
END:STANDARD
END:VTIMEZONE
BEGIN:VEVENT
DTSTART;TZID=America/Chicago:20190614T220000
DTEND;TZID=America/Chicago:20190614T233000
DTSTAMP:20260423T092807
CREATED:20190529T234823Z
LAST-MODIFIED:20190529T234823Z
UID:8909-1560549600-1560555000@www.live80skc.com
SUMMARY:Vixen at Edgerton Frontier Days
DESCRIPTION:
URL:https://www.live80skc.com/kansas-city-concert/vixen-edgerton-frontier-days-2019/
LOCATION:Edgerton Frontier Days\, E 4th St & E Nelson St\, Edgerton\, KS\, 66021\, United States
CATEGORIES:Festival
END:VEVENT
END:VCALENDAR