BEGIN:VCALENDAR
VERSION:2.0
PRODID:-//Live &#039;80s Kansas City - ECPv5.6.0//NONSGML v1.0//EN
CALSCALE:GREGORIAN
METHOD:PUBLISH
X-WR-CALNAME:Live &#039;80s Kansas City
X-ORIGINAL-URL:https://www.live80skc.com
X-WR-CALDESC:Events for Live &#039;80s Kansas City
BEGIN:VTIMEZONE
TZID:America/Chicago
BEGIN:DAYLIGHT
TZOFFSETFROM:-0600
TZOFFSETTO:-0500
TZNAME:CDT
DTSTART:20180311T080000
END:DAYLIGHT
BEGIN:STANDARD
TZOFFSETFROM:-0500
TZOFFSETTO:-0600
TZNAME:CST
DTSTART:20181104T070000
END:STANDARD
END:VTIMEZONE
BEGIN:VEVENT
DTSTART;TZID=America/Chicago:20181110T200000
DTEND;TZID=America/Chicago:20181110T230000
DTSTAMP:20260423T051939
CREATED:20181107T050320Z
LAST-MODIFIED:20181107T050320Z
UID:7665-1541880000-1541890800@www.live80skc.com
SUMMARY:Wynonna with the Kansas City Symphony
DESCRIPTION:
URL:https://www.live80skc.com/kansas-city-concert/wynonna-kansas-city-symphany-kauffman-center-2018/
LOCATION:Kauffman Center for the Performing Arts\, 1601 Broadway Boulevard\, Kansas City\, MO\, 64108\, United States
CATEGORIES:Kauffman Center,Theater
END:VEVENT
END:VCALENDAR