BEGIN:VCALENDAR
VERSION:2.0
PRODID:-//Live &#039;80s Kansas City - ECPv5.6.0//NONSGML v1.0//EN
CALSCALE:GREGORIAN
METHOD:PUBLISH
X-WR-CALNAME:Live &#039;80s Kansas City
X-ORIGINAL-URL:https://www.live80skc.com
X-WR-CALDESC:Events for Live &#039;80s Kansas City
BEGIN:VTIMEZONE
TZID:America/Chicago
BEGIN:DAYLIGHT
TZOFFSETFROM:-0600
TZOFFSETTO:-0500
TZNAME:CDT
DTSTART:20200308T080000
END:DAYLIGHT
BEGIN:STANDARD
TZOFFSETFROM:-0500
TZOFFSETTO:-0600
TZNAME:CST
DTSTART:20201101T070000
END:STANDARD
END:VTIMEZONE
BEGIN:VEVENT
DTSTART;TZID=America/Chicago:20200305T200000
DTEND;TZID=America/Chicago:20200305T230000
DTSTAMP:20260423T035319
CREATED:20190917T015222Z
LAST-MODIFIED:20190917T015222Z
UID:9686-1583438400-1583449200@www.live80skc.com
SUMMARY:Y&T
DESCRIPTION:
URL:https://www.live80skc.com/kansas-city-concert/yt-harrahs-voodoo-lounge-2020/
LOCATION:VooDoo Lounge\, 1 Riverboat Drive\, Kansas CIty\, MO\, 64116\, United States
CATEGORIES:Casino,Harrah's Casino
END:VEVENT
END:VCALENDAR