BEGIN:VCALENDAR
VERSION:2.0
PRODID:-//Live &#039;80s Kansas City - ECPv5.6.0//NONSGML v1.0//EN
CALSCALE:GREGORIAN
METHOD:PUBLISH
X-WR-CALNAME:Live &#039;80s Kansas City
X-ORIGINAL-URL:https://www.live80skc.com
X-WR-CALDESC:Events for Live &#039;80s Kansas City
BEGIN:VTIMEZONE
TZID:America/Chicago
BEGIN:DAYLIGHT
TZOFFSETFROM:-0600
TZOFFSETTO:-0500
TZNAME:CDT
DTSTART:20260308T080000
END:DAYLIGHT
BEGIN:STANDARD
TZOFFSETFROM:-0500
TZOFFSETTO:-0600
TZNAME:CST
DTSTART:20261101T070000
END:STANDARD
END:VTIMEZONE
BEGIN:VEVENT
DTSTART;TZID=America/Chicago:20260425T190000
DTEND;TZID=America/Chicago:20260425T230000
DTSTAMP:20260422T235529
CREATED:20251210T035535Z
LAST-MODIFIED:20251210T035535Z
UID:17708-1777143600-1777158000@www.live80skc.com
SUMMARY:ZZ Top & Dwight Yoakam
DESCRIPTION:
URL:https://www.live80skc.com/kansas-city-concert/zz-top-dwight-yoakam-azura-amp-2026/
LOCATION:Azura Amphitheater\, 633 North 130th Street\, Bonner Springs\, KS\, 66012\, United States
END:VEVENT
END:VCALENDAR